BEGIN:VCALENDAR
VERSION:2.0
PRODID:-//Schachklub Neuburg - ECPv6.15.20//NONSGML v1.0//EN
CALSCALE:GREGORIAN
METHOD:PUBLISH
X-WR-CALNAME:Schachklub Neuburg
X-ORIGINAL-URL:https://schachklub-neuburg.de
X-WR-CALDESC:Veranstaltungen für Schachklub Neuburg
REFRESH-INTERVAL;VALUE=DURATION:PT1H
X-Robots-Tag:noindex
X-PUBLISHED-TTL:PT1H
BEGIN:VTIMEZONE
TZID:Europe/Berlin
BEGIN:DAYLIGHT
TZOFFSETFROM:+0100
TZOFFSETTO:+0200
TZNAME:CEST
DTSTART:20250330T010000
END:DAYLIGHT
BEGIN:STANDARD
TZOFFSETFROM:+0200
TZOFFSETTO:+0100
TZNAME:CET
DTSTART:20251026T010000
END:STANDARD
BEGIN:DAYLIGHT
TZOFFSETFROM:+0100
TZOFFSETTO:+0200
TZNAME:CEST
DTSTART:20260329T010000
END:DAYLIGHT
BEGIN:STANDARD
TZOFFSETFROM:+0200
TZOFFSETTO:+0100
TZNAME:CET
DTSTART:20261025T010000
END:STANDARD
BEGIN:DAYLIGHT
TZOFFSETFROM:+0100
TZOFFSETTO:+0200
TZNAME:CEST
DTSTART:20270328T010000
END:DAYLIGHT
BEGIN:STANDARD
TZOFFSETFROM:+0200
TZOFFSETTO:+0100
TZNAME:CET
DTSTART:20271031T010000
END:STANDARD
END:VTIMEZONE
BEGIN:VEVENT
DTSTART;TZID=Europe/Berlin:20260714T200000
DTEND;TZID=Europe/Berlin:20260714T230000
DTSTAMP:20260423T171626
CREATED:20260407T142504Z
LAST-MODIFIED:20260407T142506Z
UID:9404-1784059200-1784070000@schachklub-neuburg.de
SUMMARY:Spielabend
DESCRIPTION:
URL:https://schachklub-neuburg.de/event/spielabend-23/
LOCATION:Spiellokal: Bürgerhaus im Schwalbanger\, Richard-Wagner-Str. 6\, Neuburg\, 86633\, Germany
CATEGORIES:Spielabend,Training
ATTACH;FMTTYPE=image/png:https://schachklub-neuburg.de/wp-content/uploads/2025/08/Training.png
ORGANIZER;CN="SK Neuburg":MAILTO:info@schachklub-neuburg.de
END:VEVENT
BEGIN:VEVENT
DTSTART;TZID=Europe/Berlin:20260717T180000
DTEND;TZID=Europe/Berlin:20260717T230000
DTSTAMP:20260423T171626
CREATED:20251028T200502Z
LAST-MODIFIED:20251028T200505Z
UID:8979-1784311200-1784329200@schachklub-neuburg.de
SUMMARY:Grillfest / Sommerfest
DESCRIPTION:
URL:https://schachklub-neuburg.de/event/grillfest-sommerfest/
LOCATION:Spiellokal: Bürgerhaus im Ostend\, Berliner Str. 164\, Neuburg\, 86633\, Germany
CATEGORIES:Verein
ATTACH;FMTTYPE=image/jpeg:https://schachklub-neuburg.de/wp-content/uploads/2024/06/pexels-ali-smith-1223678-2768089-1-scaled.jpg
ORGANIZER;CN="SK Neuburg":MAILTO:info@schachklub-neuburg.de
END:VEVENT
BEGIN:VEVENT
DTSTART;TZID=Europe/Berlin:20260721T200000
DTEND;TZID=Europe/Berlin:20260721T230000
DTSTAMP:20260423T171626
CREATED:20260210T114654Z
LAST-MODIFIED:20260210T114656Z
UID:9225-1784664000-1784674800@schachklub-neuburg.de
SUMMARY:Schnellschach-Tour 2026 - Turnier 6
DESCRIPTION:Alle Infos zur Turnierserie: https://schachklub-neuburg.de/schnellschach-tour-2026-alle-infos/
URL:https://schachklub-neuburg.de/event/sst2026-turnier6/
LOCATION:Spiellokal: Bürgerhaus im Schwalbanger\, Richard-Wagner-Str. 6\, Neuburg\, 86633\, Germany
CATEGORIES:Schnellschach-Tour
ATTACH;FMTTYPE=image/png:https://schachklub-neuburg.de/wp-content/uploads/2025/08/Schnellschach-Tour.png
ORGANIZER;CN="SK Neuburg":MAILTO:info@schachklub-neuburg.de
END:VEVENT
BEGIN:VEVENT
DTSTART;TZID=Europe/Berlin:20260728T200000
DTEND;TZID=Europe/Berlin:20260728T230000
DTSTAMP:20260423T171626
CREATED:20260407T142540Z
LAST-MODIFIED:20260407T142542Z
UID:9406-1785268800-1785279600@schachklub-neuburg.de
SUMMARY:Spielabend (Ostend)
DESCRIPTION:
URL:https://schachklub-neuburg.de/event/spielabend-ostend-6/
LOCATION:Spiellokal: Bürgerhaus im Ostend\, Berliner Str. 164\, Neuburg\, 86633\, Germany
CATEGORIES:Spielabend,Training
ATTACH;FMTTYPE=image/png:https://schachklub-neuburg.de/wp-content/uploads/2025/08/Training.png
ORGANIZER;CN="SK Neuburg":MAILTO:info@schachklub-neuburg.de
END:VEVENT
BEGIN:VEVENT
DTSTART;TZID=Europe/Berlin:20260804T200000
DTEND;TZID=Europe/Berlin:20260804T230000
DTSTAMP:20260423T171626
CREATED:20260210T125832Z
LAST-MODIFIED:20260210T125834Z
UID:9258-1785873600-1785884400@schachklub-neuburg.de
SUMMARY:Vereinsmeisterschaft 2026 - Runde 5
DESCRIPTION:Alle Infos zur Vereinsmeisterschaft: https://schachklub-neuburg.de/vereinsmeisterschaft-2026-alle-infos/
URL:https://schachklub-neuburg.de/event/vereinsmeisterschaft-2026-runde-5/
LOCATION:Spiellokal: Bürgerhaus im Schwalbanger\, Richard-Wagner-Str. 6\, Neuburg\, 86633\, Germany
CATEGORIES:Vereinsmeisterschaft
ATTACH;FMTTYPE=image/png:https://schachklub-neuburg.de/wp-content/uploads/2025/08/Vereinsmeisterschaft.png
ORGANIZER;CN="SK Neuburg":MAILTO:info@schachklub-neuburg.de
END:VEVENT
BEGIN:VEVENT
DTSTART;TZID=Europe/Berlin:20260811T200000
DTEND;TZID=Europe/Berlin:20260811T230000
DTSTAMP:20260423T171626
CREATED:20260407T142629Z
LAST-MODIFIED:20260407T142631Z
UID:9408-1786478400-1786489200@schachklub-neuburg.de
SUMMARY:Spielabend
DESCRIPTION:
URL:https://schachklub-neuburg.de/event/spielabend-24/
LOCATION:Spiellokal: Bürgerhaus im Schwalbanger\, Richard-Wagner-Str. 6\, Neuburg\, 86633\, Germany
CATEGORIES:Spielabend,Training
ATTACH;FMTTYPE=image/png:https://schachklub-neuburg.de/wp-content/uploads/2025/08/Training.png
ORGANIZER;CN="SK Neuburg":MAILTO:info@schachklub-neuburg.de
END:VEVENT
BEGIN:VEVENT
DTSTART;TZID=Europe/Berlin:20260818T200000
DTEND;TZID=Europe/Berlin:20260818T230000
DTSTAMP:20260423T171626
CREATED:20260407T142742Z
LAST-MODIFIED:20260407T142744Z
UID:9411-1787083200-1787094000@schachklub-neuburg.de
SUMMARY:Spielabend
DESCRIPTION:
URL:https://schachklub-neuburg.de/event/spielabend-25/
LOCATION:Spiellokal: Bürgerhaus im Schwalbanger\, Richard-Wagner-Str. 6\, Neuburg\, 86633\, Germany
CATEGORIES:Spielabend,Training
ATTACH;FMTTYPE=image/png:https://schachklub-neuburg.de/wp-content/uploads/2025/08/Training.png
ORGANIZER;CN="SK Neuburg":MAILTO:info@schachklub-neuburg.de
END:VEVENT
BEGIN:VEVENT
DTSTART;TZID=Europe/Berlin:20260825T200000
DTEND;TZID=Europe/Berlin:20260825T230000
DTSTAMP:20260423T171626
CREATED:20260407T142811Z
LAST-MODIFIED:20260407T142813Z
UID:9410-1787688000-1787698800@schachklub-neuburg.de
SUMMARY:Spielabend
DESCRIPTION:
URL:https://schachklub-neuburg.de/event/spielabend-26/
LOCATION:Spiellokal: Bürgerhaus im Schwalbanger\, Richard-Wagner-Str. 6\, Neuburg\, 86633\, Germany
CATEGORIES:Spielabend,Training
ATTACH;FMTTYPE=image/png:https://schachklub-neuburg.de/wp-content/uploads/2025/08/Training.png
ORGANIZER;CN="SK Neuburg":MAILTO:info@schachklub-neuburg.de
END:VEVENT
BEGIN:VEVENT
DTSTART;TZID=Europe/Berlin:20260901T200000
DTEND;TZID=Europe/Berlin:20260901T230000
DTSTAMP:20260423T171626
CREATED:20260407T142910Z
LAST-MODIFIED:20260407T142912Z
UID:9414-1788292800-1788303600@schachklub-neuburg.de
SUMMARY:Spielabend
DESCRIPTION:
URL:https://schachklub-neuburg.de/event/spielabend-27/
LOCATION:Spiellokal: Bürgerhaus im Schwalbanger\, Richard-Wagner-Str. 6\, Neuburg\, 86633\, Germany
CATEGORIES:Spielabend,Training
ATTACH;FMTTYPE=image/png:https://schachklub-neuburg.de/wp-content/uploads/2025/08/Training.png
ORGANIZER;CN="SK Neuburg":MAILTO:info@schachklub-neuburg.de
END:VEVENT
BEGIN:VEVENT
DTSTART;TZID=Europe/Berlin:20260908T200000
DTEND;TZID=Europe/Berlin:20260908T230000
DTSTAMP:20260423T171626
CREATED:20260407T142937Z
LAST-MODIFIED:20260407T142939Z
UID:9416-1788897600-1788908400@schachklub-neuburg.de
SUMMARY:Spielabend
DESCRIPTION:
URL:https://schachklub-neuburg.de/event/spielabend-28/
LOCATION:Spiellokal: Bürgerhaus im Schwalbanger\, Richard-Wagner-Str. 6\, Neuburg\, 86633\, Germany
CATEGORIES:Spielabend,Training
ATTACH;FMTTYPE=image/png:https://schachklub-neuburg.de/wp-content/uploads/2025/08/Training.png
ORGANIZER;CN="SK Neuburg":MAILTO:info@schachklub-neuburg.de
END:VEVENT
BEGIN:VEVENT
DTSTART;TZID=Europe/Berlin:20260915T200000
DTEND;TZID=Europe/Berlin:20260915T230000
DTSTAMP:20260423T171626
CREATED:20260210T115439Z
LAST-MODIFIED:20260210T115441Z
UID:9226-1789502400-1789513200@schachklub-neuburg.de
SUMMARY:Schnellschach-Tour 2026 - Turnier 7
DESCRIPTION:Alle Infos zur Turnierserie: https://schachklub-neuburg.de/schnellschach-tour-2026-alle-infos/
URL:https://schachklub-neuburg.de/event/sst2026-turnier7/
LOCATION:Spiellokal: Bürgerhaus im Schwalbanger\, Richard-Wagner-Str. 6\, Neuburg\, 86633\, Germany
CATEGORIES:Schnellschach-Tour
ATTACH;FMTTYPE=image/png:https://schachklub-neuburg.de/wp-content/uploads/2025/08/Schnellschach-Tour.png
ORGANIZER;CN="SK Neuburg":MAILTO:info@schachklub-neuburg.de
END:VEVENT
BEGIN:VEVENT
DTSTART;TZID=Europe/Berlin:20260922T200000
DTEND;TZID=Europe/Berlin:20260922T230000
DTSTAMP:20260423T171626
CREATED:20260407T143020Z
LAST-MODIFIED:20260407T143022Z
UID:9418-1790107200-1790118000@schachklub-neuburg.de
SUMMARY:Spielabend
DESCRIPTION:
URL:https://schachklub-neuburg.de/event/spielabend-29/
LOCATION:Spiellokal: Bürgerhaus im Schwalbanger\, Richard-Wagner-Str. 6\, Neuburg\, 86633\, Germany
CATEGORIES:Spielabend,Training
ATTACH;FMTTYPE=image/png:https://schachklub-neuburg.de/wp-content/uploads/2025/08/Training.png
ORGANIZER;CN="SK Neuburg":MAILTO:info@schachklub-neuburg.de
END:VEVENT
BEGIN:VEVENT
DTSTART;TZID=Europe/Berlin:20260929T200000
DTEND;TZID=Europe/Berlin:20260929T230000
DTSTAMP:20260423T171626
CREATED:20260407T143101Z
LAST-MODIFIED:20260407T143103Z
UID:9420-1790712000-1790722800@schachklub-neuburg.de
SUMMARY:Spielabend (Ostend)
DESCRIPTION:
URL:https://schachklub-neuburg.de/event/spielabend-ostend-7/
LOCATION:Spiellokal: Bürgerhaus im Ostend\, Berliner Str. 164\, Neuburg\, 86633\, Germany
CATEGORIES:Spielabend,Training
ATTACH;FMTTYPE=image/png:https://schachklub-neuburg.de/wp-content/uploads/2025/08/Training.png
ORGANIZER;CN="SK Neuburg":MAILTO:info@schachklub-neuburg.de
END:VEVENT
BEGIN:VEVENT
DTSTART;TZID=Europe/Berlin:20261006T200000
DTEND;TZID=Europe/Berlin:20261006T230000
DTSTAMP:20260423T171626
CREATED:20260210T125924Z
LAST-MODIFIED:20260210T125926Z
UID:9260-1791316800-1791327600@schachklub-neuburg.de
SUMMARY:Vereinsmeisterschaft 2026 - Runde 6
DESCRIPTION:Alle Infos zur Vereinsmeisterschaft: https://schachklub-neuburg.de/vereinsmeisterschaft-2026-alle-infos/
URL:https://schachklub-neuburg.de/event/vereinsmeisterschaft-2026-runde-6/
LOCATION:Spiellokal: Bürgerhaus im Schwalbanger\, Richard-Wagner-Str. 6\, Neuburg\, 86633\, Germany
CATEGORIES:Vereinsmeisterschaft
ATTACH;FMTTYPE=image/png:https://schachklub-neuburg.de/wp-content/uploads/2025/08/Vereinsmeisterschaft.png
ORGANIZER;CN="SK Neuburg":MAILTO:info@schachklub-neuburg.de
END:VEVENT
BEGIN:VEVENT
DTSTART;TZID=Europe/Berlin:20261013T200000
DTEND;TZID=Europe/Berlin:20261013T230000
DTSTAMP:20260423T171626
CREATED:20260407T143159Z
LAST-MODIFIED:20260407T143201Z
UID:9423-1791921600-1791932400@schachklub-neuburg.de
SUMMARY:Spielabend
DESCRIPTION:
URL:https://schachklub-neuburg.de/event/spielabend-31/
LOCATION:Spiellokal: Bürgerhaus im Schwalbanger\, Richard-Wagner-Str. 6\, Neuburg\, 86633\, Germany
CATEGORIES:Spielabend,Training
ATTACH;FMTTYPE=image/png:https://schachklub-neuburg.de/wp-content/uploads/2025/08/Training.png
ORGANIZER;CN="SK Neuburg":MAILTO:info@schachklub-neuburg.de
END:VEVENT
BEGIN:VEVENT
DTSTART;TZID=Europe/Berlin:20261020T200000
DTEND;TZID=Europe/Berlin:20261020T230000
DTSTAMP:20260423T171626
CREATED:20260210T115542Z
LAST-MODIFIED:20260210T115544Z
UID:9228-1792526400-1792537200@schachklub-neuburg.de
SUMMARY:Schnellschach-Tour 2026 - Turnier 8
DESCRIPTION:Alle Infos zur Turnierserie: https://schachklub-neuburg.de/schnellschach-tour-2026-alle-infos/
URL:https://schachklub-neuburg.de/event/sst2026-turnier8/
LOCATION:Spiellokal: Bürgerhaus im Schwalbanger\, Richard-Wagner-Str. 6\, Neuburg\, 86633\, Germany
CATEGORIES:Schnellschach-Tour
ATTACH;FMTTYPE=image/png:https://schachklub-neuburg.de/wp-content/uploads/2025/08/Schnellschach-Tour.png
ORGANIZER;CN="SK Neuburg":MAILTO:info@schachklub-neuburg.de
END:VEVENT
BEGIN:VEVENT
DTSTART;TZID=Europe/Berlin:20261027T200000
DTEND;TZID=Europe/Berlin:20261027T230000
DTSTAMP:20260423T171626
CREATED:20260407T143220Z
LAST-MODIFIED:20260407T143222Z
UID:9425-1793131200-1793142000@schachklub-neuburg.de
SUMMARY:Spielabend
DESCRIPTION:
URL:https://schachklub-neuburg.de/event/spielabend-32/
LOCATION:Spiellokal: Bürgerhaus im Schwalbanger\, Richard-Wagner-Str. 6\, Neuburg\, 86633\, Germany
CATEGORIES:Spielabend,Training
ATTACH;FMTTYPE=image/png:https://schachklub-neuburg.de/wp-content/uploads/2025/08/Training.png
ORGANIZER;CN="SK Neuburg":MAILTO:info@schachklub-neuburg.de
END:VEVENT
BEGIN:VEVENT
DTSTART;TZID=Europe/Berlin:20261103T200000
DTEND;TZID=Europe/Berlin:20261103T230000
DTSTAMP:20260423T171626
CREATED:20260210T125958Z
LAST-MODIFIED:20260210T130000Z
UID:9261-1793736000-1793746800@schachklub-neuburg.de
SUMMARY:Vereinsmeisterschaft 2026 - Runde 7
DESCRIPTION:Alle Infos zur Vereinsmeisterschaft: https://schachklub-neuburg.de/vereinsmeisterschaft-2026-alle-infos/
URL:https://schachklub-neuburg.de/event/vereinsmeisterschaft-2026-runde-7/
LOCATION:Spiellokal: Bürgerhaus im Schwalbanger\, Richard-Wagner-Str. 6\, Neuburg\, 86633\, Germany
CATEGORIES:Vereinsmeisterschaft
ATTACH;FMTTYPE=image/png:https://schachklub-neuburg.de/wp-content/uploads/2025/08/Vereinsmeisterschaft.png
ORGANIZER;CN="SK Neuburg":MAILTO:info@schachklub-neuburg.de
END:VEVENT
BEGIN:VEVENT
DTSTART;TZID=Europe/Berlin:20261117T200000
DTEND;TZID=Europe/Berlin:20261117T230000
DTSTAMP:20260423T171626
CREATED:20260210T115649Z
LAST-MODIFIED:20260210T115650Z
UID:9232-1794945600-1794956400@schachklub-neuburg.de
SUMMARY:Schnellschach-Tour 2026 - Turnier 9
DESCRIPTION:Alle Infos zur Turnierserie: https://schachklub-neuburg.de/schnellschach-tour-2026-alle-infos/
URL:https://schachklub-neuburg.de/event/sst-2026-turnier9/
LOCATION:Spiellokal: Bürgerhaus im Schwalbanger\, Richard-Wagner-Str. 6\, Neuburg\, 86633\, Germany
CATEGORIES:Schnellschach-Tour
ATTACH;FMTTYPE=image/png:https://schachklub-neuburg.de/wp-content/uploads/2025/08/Schnellschach-Tour.png
ORGANIZER;CN="SK Neuburg":MAILTO:info@schachklub-neuburg.de
END:VEVENT
END:VCALENDAR